BEGIN:VCALENDAR
VERSION:2.0
PRODID:-//Team Vetted//Tryout Calendar//EN
BEGIN:VEVENT
DTSTART:20260616T180000
DTEND:20260616T200000
SUMMARY:Coppell Cowboys - Vaughn 9U Tryout
LOCATION:Coppell, TX
DESCRIPTION:9U AA tryout\nFree\nFall 26 Select/Premier Tryouts
URL:https://youth-sports-platform-neon.vercel.app/tryouts/6b6ade28-bbd1-432d-a040-5941c5974eb8
END:VEVENT
END:VCALENDAR