BEGIN:VCALENDAR
VERSION:2.0
PRODID:-//Team Vetted//Tryout Calendar//EN
BEGIN:VEVENT
DTSTART:20260615T180000
DTEND:20260615T200000
SUMMARY:Coppell Cowboys-Marcom 13U Tryout
LOCATION:Not specified, Not specified TX
DESCRIPTION:13U AAA tryout\nFree\nFall 26 Select/Premier Tryouts (June 15-17)
URL:https://youth-sports-platform-neon.vercel.app/tryouts/69a627ce-7540-4e0d-83f2-3133aba434e0
END:VEVENT
END:VCALENDAR