BEGIN:VCALENDAR
VERSION:2.0
PRODID:-//Team Vetted//Tryout Calendar//EN
BEGIN:VEVENT
DTSTART:20260423T130000
DTEND:20260423T150000
SUMMARY:CAB Arlington 14U Navy 14U Tryout
LOCATION:Arlington High School Varsity Field, Arlington TX
DESCRIPTION:14U AA tryout\nFee: $70.00\nAge groups: 8-12 | Spring Baseball Clinic - Part 3 of 3. Concludes with scrimmage.
URL:https://youth-sports-platform-neon.vercel.app/tryouts/66827127-9c73-4135-8e3c-92070457c0d0
END:VEVENT
END:VCALENDAR