BEGIN:VCALENDAR
VERSION:2.0
PRODID:-//Team Vetted//Tryout Calendar//EN
BEGIN:VEVENT
DTSTART:20260615T180000
DTEND:20260615T200000
SUMMARY:Coppell Cowboys - Vaughn 9U Tryout
LOCATION:<UNKNOWN>, Coppell TX
DESCRIPTION:9U AA tryout\nFree\nFall 26 Select/Premier Tryouts
URL:https://youth-sports-platform-neon.vercel.app/tryouts/645fc5d0-bce5-4771-a099-93b28d4bd179
END:VEVENT
END:VCALENDAR