BEGIN:VCALENDAR
VERSION:2.0
PRODID:-//Team Vetted//Tryout Calendar//EN
BEGIN:VEVENT
DTSTART:20260615T180000
DTEND:20260615T200000
SUMMARY:Coppell Cowboys - Taves 11U Tryout
LOCATION:<UNKNOWN>, Coppell TX
DESCRIPTION:11U AA tryout\nFree\nFall 26 Select/Premier Tryouts (3-day event June 15-17)
URL:https://youth-sports-platform-neon.vercel.app/tryouts/645866ad-fd08-40c7-a802-13376f96c011
END:VEVENT
END:VCALENDAR