BEGIN:VCALENDAR
VERSION:2.0
PRODID:-//Team Vetted//Tryout Calendar//EN
BEGIN:VEVENT
DTSTART:20260422T140000
DTEND:20260422T160000
SUMMARY:Arlington Pharaohs 9U Tryout
LOCATION:Arlington High School Varsity Field, Arlington TX
DESCRIPTION:9U Rec tryout\nFee: $70.00\nAge groups: 8-12 | Spring Baseball Clinic - Part 2 of 3 days
URL:https://youth-sports-platform-neon.vercel.app/tryouts/6353d05d-c629-4aa1-920d-e028ff2b9777
END:VEVENT
END:VCALENDAR