BEGIN:VCALENDAR
VERSION:2.0
PRODID:-//Team Vetted//Tryout Calendar//EN
BEGIN:VEVENT
DTSTART:20260423T130000
DTEND:20260423T150000
SUMMARY:Arlington War Eagles 14U Tryout
LOCATION:Arlington High School Varsity Field, Arlington TX
DESCRIPTION:14U AA tryout\nFee: $70.00\nAge groups: 8-12 | Spring Baseball Clinic - Part 3 of 3 days, concludes with scrimmage
URL:https://youth-sports-platform-neon.vercel.app/tryouts/615e23ad-e7c8-49e7-9e83-d39ab4c9ca90
END:VEVENT
END:VCALENDAR