BEGIN:VCALENDAR
VERSION:2.0
PRODID:-//Team Vetted//Tryout Calendar//EN
BEGIN:VEVENT
DTSTART:20260422T140000
DTEND:20260422T160000
SUMMARY:CAB Arlington 14U Tryout
LOCATION:Arlington High School Varsity Field, Arlington TX
DESCRIPTION:14U AA tryout\nFee: $70.00\nAge groups: 8-12 | Spring Baseball Clinic - part of 3-day clinic (April 21, 22, & 23)
URL:https://youth-sports-platform-neon.vercel.app/tryouts/5f67ec52-4b0b-475c-9500-17a5007c9f5b
END:VEVENT
END:VCALENDAR