BEGIN:VCALENDAR
VERSION:2.0
PRODID:-//Team Vetted//Tryout Calendar//EN
BEGIN:VEVENT
DTSTART:20261110T190000
DTEND:20261110T200000
SUMMARY:Wildcatters Baseball 11U Tryout
LOCATION:Southfork Sports Complex, Parker, TX TX
DESCRIPTION:11U Unknown tryout\nFree
URL:https://youth-sports-platform-neon.vercel.app/tryouts/5eea2454-de22-4de0-85bb-139a56b58226
END:VEVENT
END:VCALENDAR