BEGIN:VCALENDAR
VERSION:2.0
PRODID:-//Team Vetted//Tryout Calendar//EN
BEGIN:VEVENT
DTSTART:20260615T180000
DTEND:20260615T200000
SUMMARY:Coppell Cowboys - Jones 8U Tryout
LOCATION:<UNKNOWN>, Coppell TX
DESCRIPTION:8U AA tryout\nFree\nFall 26 Select/Premier Tryouts
URL:https://youth-sports-platform-neon.vercel.app/tryouts/5b1510b8-8d56-4f3d-a628-041917934513
END:VEVENT
END:VCALENDAR