BEGIN:VCALENDAR
VERSION:2.0
PRODID:-//Team Vetted//Tryout Calendar//EN
BEGIN:VEVENT
DTSTART:20260424T180000
DTEND:20260424T200000
SUMMARY:Furia Baseball 15U Tryout
LOCATION:Oak Grove Baseball Fields, Field H, 2520 Oak Grove Loop S, Grapevine, TX TX
DESCRIPTION:15U Elite tryout\nFree\nAge groups: 15U-17U | 1 hr 30 min duration
URL:https://youth-sports-platform-neon.vercel.app/tryouts/567c74a8-55d7-4a11-ab7b-03353202c0e4
END:VEVENT
END:VCALENDAR