BEGIN:VCALENDAR
VERSION:2.0
PRODID:-//Team Vetted//Tryout Calendar//EN
BEGIN:VEVENT
DTSTART:20260615T180000
DTEND:20260615T200000
SUMMARY:Coppell Cowboys - May 9U Tryout
LOCATION:Coppell, TX
DESCRIPTION:9U AA tryout\nFree\nFall 26 Select/Premier Tryouts
URL:https://youth-sports-platform-neon.vercel.app/tryouts/5638a405-57c9-4680-b5a6-eb7ea1003fa5
END:VEVENT
END:VCALENDAR