BEGIN:VCALENDAR
VERSION:2.0
PRODID:-//Team Vetted//Tryout Calendar//EN
BEGIN:VEVENT
DTSTART:20260421T130000
DTEND:20260421T150000
SUMMARY:Arlington Cubs 9U Tryout
LOCATION:Arlington High School Varsity Field, Arlington TX
DESCRIPTION:9U AA tryout\nFee: $70.00\nAge groups: 8-12 | Spring Baseball Clinic - Part 1 of 3 days. Work with varsity players on fielding, throwing, hitting, and base running.
URL:https://youth-sports-platform-neon.vercel.app/tryouts/5210d8cd-e996-4e3c-ad8e-61cc4d716d91
END:VEVENT
END:VCALENDAR