BEGIN:VCALENDAR
VERSION:2.0
PRODID:-//Team Vetted//Tryout Calendar//EN
BEGIN:VEVENT
DTSTART:20261105T180000
DTEND:20261105T200000
SUMMARY:Coppell Cowboys - Roman 10U Tryout
LOCATION:<UNKNOWN>, Coppell TX
DESCRIPTION:10U AA tryout\nFree
URL:https://youth-sports-platform-neon.vercel.app/tryouts/4f577642-379d-4af9-a8c7-b17f88ed21e4
END:VEVENT
END:VCALENDAR