BEGIN:VCALENDAR
VERSION:2.0
PRODID:-//Team Vetted//Tryout Calendar//EN
BEGIN:VEVENT
DTSTART:20260422T140000
DTEND:20260422T160000
SUMMARY:CAB Arlington 14U Navy 14U Tryout
LOCATION:Arlington High School Varsity Field, Arlington TX
DESCRIPTION:14U AA tryout\nFee: $70.00\nAge groups: 8-12 | Spring Baseball Clinic - Part 2 of 3
URL:https://youth-sports-platform-neon.vercel.app/tryouts/4d27297d-edc8-45ba-9c25-ad2de565b6bc
END:VEVENT
END:VCALENDAR