BEGIN:VCALENDAR
VERSION:2.0
PRODID:-//Team Vetted//Tryout Calendar//EN
BEGIN:VEVENT
DTSTART:20260615T180000
DTEND:20260615T200000
SUMMARY:Coppell Cowboys 10U Walsh 10U Tryout
LOCATION:<UNKNOWN>, Coppell TX
DESCRIPTION:10U AA tryout\nFree\nFall 26 Select/Premier Tryouts
URL:https://youth-sports-platform-neon.vercel.app/tryouts/49ab278d-8f05-4597-8ded-bc382eff7d34
END:VEVENT
END:VCALENDAR