BEGIN:VCALENDAR
VERSION:2.0
PRODID:-//Team Vetted//Tryout Calendar//EN
BEGIN:VEVENT
DTSTART:20260421T130000
DTEND:20260421T150000
SUMMARY:CAB Arlington 11U Tryout
LOCATION:Arlington High School Varsity Field, Arlington TX
DESCRIPTION:11U AA tryout\nFee: $70.00\nAge groups: 8-12 | Spring Baseball Clinic - Part 1 of 3 days
URL:https://youth-sports-platform-neon.vercel.app/tryouts/437088f4-7a67-4ca8-a684-6354d6f56660
END:VEVENT
END:VCALENDAR