BEGIN:VCALENDAR
VERSION:2.0
PRODID:-//Team Vetted//Tryout Calendar//EN
BEGIN:VEVENT
DTSTART:20260423T130000
DTEND:20260423T150000
SUMMARY:Arlington Prime 14u - Trammell 14U Tryout
LOCATION:Arlington High School Varsity Field, Arlington TX
DESCRIPTION:14U AA tryout\nFee: $70.00\nAge groups: 8-12 | Spring Baseball Clinic - Final day includes scrimmage. 6 hours total across 3 days
URL:https://youth-sports-platform-neon.vercel.app/tryouts/42221634-8bd4-4315-90de-c293995e709b
END:VEVENT
END:VCALENDAR