BEGIN:VCALENDAR
VERSION:2.0
PRODID:-//Team Vetted//Tryout Calendar//EN
BEGIN:VEVENT
DTSTART:20260616T180000
DTEND:20260616T200000
SUMMARY:Coppell Cowboys - Roman 10U Tryout
LOCATION:Coppell, TX
DESCRIPTION:10U AA tryout\nFree\nFall 26 Select/Premier Tryouts
URL:https://youth-sports-platform-neon.vercel.app/tryouts/41451b84-3a8e-4577-9c7c-f5e6e3f56dd6
END:VEVENT
END:VCALENDAR