BEGIN:VCALENDAR
VERSION:2.0
PRODID:-//Team Vetted//Tryout Calendar//EN
BEGIN:VEVENT
DTSTART:20260423T130000
DTEND:20260423T150000
SUMMARY:Arlington Pharaohs 9U Tryout
LOCATION:Arlington High School Varsity Field, Arlington TX
DESCRIPTION:9U Rec tryout\nFee: $70.00\nAge groups: 8-12 | Spring Baseball Clinic - Part 3 of 3 days with scrimmage
URL:https://youth-sports-platform-neon.vercel.app/tryouts/410dff11-b5a4-4abf-b421-7861781c9787
END:VEVENT
END:VCALENDAR