BEGIN:VCALENDAR
VERSION:2.0
PRODID:-//Team Vetted//Tryout Calendar//EN
BEGIN:VEVENT
DTSTART:20261115T113000
DTEND:20261115T200000
SUMMARY:Wildcatters High School High School Tryout
LOCATION:Player Development Center, Bedford, TX TX
DESCRIPTION:High School Unknown tryout\nFree
URL:https://youth-sports-platform-neon.vercel.app/tryouts/3d3575fd-f395-4a19-a856-c6a425b15b53
END:VEVENT
END:VCALENDAR