BEGIN:VCALENDAR
VERSION:2.0
PRODID:-//Team Vetted//Tryout Calendar//EN
BEGIN:VEVENT
DTSTART:20260421T130000
DTEND:20260421T150000
SUMMARY:Arlington Prime 13U Trammell 13U Tryout
LOCATION:Arlington High School Varsity Field, Arlington TX
DESCRIPTION:13U AA tryout\nFee: $70.00\nAge groups: 8-12 | Spring Baseball Clinic - Day 1 of 3
URL:https://youth-sports-platform-neon.vercel.app/tryouts/3aa79400-4b15-4aec-92dd-6a1a92bfee76
END:VEVENT
END:VCALENDAR