BEGIN:VCALENDAR
VERSION:2.0
PRODID:-//Team Vetted//Tryout Calendar//EN
BEGIN:VEVENT
DTSTART:20260617T180000
DTEND:20260617T200000
SUMMARY:Coppell Cowboys-Marcom 13U Tryout
LOCATION:Coppell, TX
DESCRIPTION:13U AAA tryout\nFree\nFall 26 Select/Premier Tryouts (June 15-17)
URL:https://youth-sports-platform-neon.vercel.app/tryouts/3aa32efd-fd58-4f82-9127-c63f0091846a
END:VEVENT
END:VCALENDAR