BEGIN:VCALENDAR
VERSION:2.0
PRODID:-//Team Vetted//Tryout Calendar//EN
BEGIN:VEVENT
DTSTART:20260421T130000
DTEND:20260421T150000
SUMMARY:Arlington Pharaohs 9U Tryout
LOCATION:Arlington High School Varsity Field, Arlington TX
DESCRIPTION:9U Rec tryout\nFee: $70.00\nAge groups: 8-12 | Spring Baseball Clinic - Part 1 of 3 days
URL:https://youth-sports-platform-neon.vercel.app/tryouts/3252a819-8e8d-4afc-b397-3c31a279c1c3
END:VEVENT
END:VCALENDAR