BEGIN:VCALENDAR
VERSION:2.0
PRODID:-//Team Vetted//Tryout Calendar//EN
BEGIN:VEVENT
DTSTART:20260615T180000
DTEND:20260615T200000
SUMMARY:Coppell Cowboys - Traylor 12U Tryout
LOCATION:Coppell, TX
DESCRIPTION:12U AA tryout\nFree\nFall 26 Select/Premier Tryouts
URL:https://youth-sports-platform-neon.vercel.app/tryouts/2c19b668-a48c-4e0d-ade1-702efe64953b
END:VEVENT
END:VCALENDAR