BEGIN:VCALENDAR
VERSION:2.0
PRODID:-//Team Vetted//Tryout Calendar//EN
BEGIN:VEVENT
DTSTART:20260424T180000
DTEND:20260424T200000
SUMMARY:Furia Baseball 16U Tryout
LOCATION:Oak Grove Baseball Fields, Field H, 2520 Oak Grove Loop S, Grapevine, TX TX
DESCRIPTION:16U Elite tryout\nFree\nAge groups: 15U-17U | Duration: 1 hour 30 minutes
URL:https://youth-sports-platform-neon.vercel.app/tryouts/266afe2a-5cbc-404b-ab95-cdb912ced4da
END:VEVENT
END:VCALENDAR