BEGIN:VCALENDAR
VERSION:2.0
PRODID:-//Team Vetted//Tryout Calendar//EN
BEGIN:VEVENT
DTSTART:20260617T180000
DTEND:20260617T200000
SUMMARY:Coppell Cowboys - Vaughn 9U Tryout
LOCATION:Coppell, TX
DESCRIPTION:9U AA tryout\nFree\nFall 26 Select/Premier Tryouts
URL:https://youth-sports-platform-neon.vercel.app/tryouts/25eaac0b-f679-4bfb-aa64-a83e9f56f7a4
END:VEVENT
END:VCALENDAR