BEGIN:VCALENDAR
VERSION:2.0
PRODID:-//Team Vetted//Tryout Calendar//EN
BEGIN:VEVENT
DTSTART:20260717T183000
DTEND:20260717T200000
SUMMARY:Coppell Cowboys - Taves 11U Tryout
LOCATION:Wagon Wheel Park 6, Coppell TX
DESCRIPTION:11U AA tryout\nFree
URL:https://youth-sports-platform-neon.vercel.app/tryouts/25d0cfbb-4f39-44c0-93a2-e8c3e5b3d2fd
END:VEVENT
END:VCALENDAR