BEGIN:VCALENDAR
VERSION:2.0
PRODID:-//Team Vetted//Tryout Calendar//EN
BEGIN:VEVENT
DTSTART:20260421T180000
DTEND:20260421T200000
SUMMARY:Denton Texans 16U Tryout
LOCATION:Denton, TX
DESCRIPTION:16U Unknown tryout\nFree\nFilling final roster spots for late spring/summer team.
URL:https://youth-sports-platform-neon.vercel.app/tryouts/2413fddf-793a-408c-89d4-772d807a0bf8
END:VEVENT
END:VCALENDAR