BEGIN:VCALENDAR
VERSION:2.0
PRODID:-//Team Vetted//Tryout Calendar//EN
BEGIN:VEVENT
DTSTART:20260616T180000
DTEND:20260616T200000
SUMMARY:Coppell Cowboys - Porter 11U Tryout
LOCATION:Coppell, TX
DESCRIPTION:11U AA tryout\nFree\nFall 26 Select/Premier Tryouts
URL:https://youth-sports-platform-neon.vercel.app/tryouts/22070027-9031-4cff-9c91-dae6db8323df
END:VEVENT
END:VCALENDAR