BEGIN:VCALENDAR
VERSION:2.0
PRODID:-//Team Vetted//Tryout Calendar//EN
BEGIN:VEVENT
DTSTART:20260423T130000
DTEND:20260423T150000
SUMMARY:Arlington A's White Sox 14U Tryout
LOCATION:Arlington High School Varsity Field, Arlington TX
DESCRIPTION:14U AAA tryout\nFee: $70.00\nAge groups: 8-12U | Spring Baseball Clinic - 6 hours total across 3 days. Concludes with scrimmage.
URL:https://youth-sports-platform-neon.vercel.app/tryouts/21320a83-5d36-49f7-827c-c62b9724dc05
END:VEVENT
END:VCALENDAR