BEGIN:VCALENDAR
VERSION:2.0
PRODID:-//Team Vetted//Tryout Calendar//EN
BEGIN:VEVENT
DTSTART:20260802T180000
DTEND:20260802T200000
SUMMARY:Team ATX 12U Tryout
LOCATION:Waxahachie Sports Complex, 151 Broadhead Rd, Waxahachie, TX 75165, USA, Waxahachie TX
DESCRIPTION:12U Elite tryout\nFree\nPost features home (white/black) and away (burnt orange) jersey designs both numbered 24. Slogan 'Rep The City' visible. Player shown displaying multiple championship rings. Tryouts are specifically for the World Classic tournament in August 2026.
URL:https://youth-sports-platform-neon.vercel.app/tryouts/1e631fe5-782b-4bbb-9c84-70dc9b1f0242
END:VEVENT
END:VCALENDAR