BEGIN:VCALENDAR
VERSION:2.0
PRODID:-//Team Vetted//Tryout Calendar//EN
BEGIN:VEVENT
DTSTART:20260427T183000
DTEND:20260427T203000
SUMMARY:LOJO Baseball 15U Tryout
LOCATION:Celebration Park / Lovejoy High School, Allen TX
DESCRIPTION:15U Elite tryout\nFree\nTwo separate tryout locations: April 20 at Celebration Park (7:30-9:30pm), April 27 at Lovejoy High School (6:30-8:30pm). Program offers professional coaching staff, 6 tournaments, skill and development training, professional scout exposure, and college coaches exposure. Private tryouts available by contacting Jamodrick McGruder. Lovejoy High School is located in Lucas, TX near Allen.
URL:https://youth-sports-platform-neon.vercel.app/tryouts/1d756926-d170-4519-aed3-a9152f737597
END:VEVENT
END:VCALENDAR