BEGIN:VCALENDAR
VERSION:2.0
PRODID:-//Team Vetted//Tryout Calendar//EN
BEGIN:VEVENT
DTSTART:20260615T180000
DTEND:20260615T200000
SUMMARY:Coppell Cowboys - Roman 10U Tryout
LOCATION:<UNKNOWN>, Coppell TX
DESCRIPTION:10U AA tryout\nFree\nFall 26 Select/Premier Tryouts
URL:https://youth-sports-platform-neon.vercel.app/tryouts/1b040187-a3ee-4793-a362-d7b655e9a04c
END:VEVENT
END:VCALENDAR