BEGIN:VCALENDAR
VERSION:2.0
PRODID:-//Team Vetted//Tryout Calendar//EN
BEGIN:VEVENT
DTSTART:20260615T180000
DTEND:20260615T200000
SUMMARY:Coppell Cowboys 12U Select 12U Tryout
LOCATION:Coppell, TX
DESCRIPTION:12U AAA tryout\nFree\nFall 26 Select/Premier Tryouts
URL:https://youth-sports-platform-neon.vercel.app/tryouts/1ab75277-7e9d-4510-9e61-9febe442b53d
END:VEVENT
END:VCALENDAR