BEGIN:VCALENDAR
VERSION:2.0
PRODID:-//Team Vetted//Tryout Calendar//EN
BEGIN:VEVENT
DTSTART:20260422T140000
DTEND:20260422T160000
SUMMARY:Arlington Prime 13U Trammell 13U Tryout
LOCATION:Arlington High School Varsity Field, Arlington TX
DESCRIPTION:13U AA tryout\nFee: $70.00\nAge groups: 8-12 | Spring Baseball Clinic - Day 2 of 3
URL:https://youth-sports-platform-neon.vercel.app/tryouts/10ef9717-d7fe-40c7-b34f-06a7e153af41
END:VEVENT
END:VCALENDAR