BEGIN:VCALENDAR
VERSION:2.0
PRODID:-//Team Vetted//Tryout Calendar//EN
BEGIN:VEVENT
DTSTART:20260421T130000
DTEND:20260421T150000
SUMMARY:Arlington Twins 10U Tryout
LOCATION:Arlington High School Varsity Field, Arlington TX
DESCRIPTION:10U Elite tryout\nFee: $70.00\nAge groups: 8-12 | Spring Baseball Clinic - 6 hours total across 3 days
URL:https://youth-sports-platform-neon.vercel.app/tryouts/04bfef8e-11ca-4654-ba1e-ee9be2d2c047
END:VEVENT
END:VCALENDAR