BEGIN:VCALENDAR
VERSION:2.0
PRODID:-//Team Vetted//Tryout Calendar//EN
BEGIN:VEVENT
DTSTART:20260616T180000
DTEND:20260616T200000
SUMMARY:Coppell Cowboys - Traylor 12U Tryout
LOCATION:Coppell, TX
DESCRIPTION:12U AA tryout\nFree\nFall 26 Select/Premier Tryouts
URL:https://youth-sports-platform-neon.vercel.app/tryouts/0470e531-82b4-44ad-abd6-0b147610f1b9
END:VEVENT
END:VCALENDAR